BEGIN:VCALENDAR
PRODID:-//PUBBLE//agenda//NL
VERSION:2.0
METHOD:PUBLISH
BEGIN:VEVENT
DTSTART:20260425T180000Z
DTEND:20260425T230000Z
DTSTAMP:20260425T150309Z
UID:87fc84dc-cb2b-4184-9022-7f4742d11cb3
CREATED:20260425T150309Z
NAME:We Love 70s 80s 90s XXL culemborgsecourant.nl
X-WR-CALNAME:We Love 70s 80s 90s XXL
X-ALT-DESC;FMTTYPE=text/html:<a href='/agenda/2026/4/25/we-love-70s-80s-90s-xxl-461203'>/agenda/2026/4/25/we-love-70s-80s-90s-xxl-461203</a> || <p>Speciale XXL Editie – We Love 70s 80s 90s! Zaterdag 25 april gaan we groots uitpakken bij Gelderlandfabriek:</p><p>10 jaar Gelderlandfabriek &amp; 10&nbsp;jaar We Love</p><p>Tijd voor een legendarische jubileumeditie! Start: 20:00 (uur eerder beginnen!)</p><p>Einde: 01:00</p><p>DJ’s: Rick Snel &amp; Peter Hak</p><p>Verwacht:• De allerbeste hits uit de 70s, 80s &amp; 90s• Grote schermen met iconische videoclips• Een spectaculaire verlichte dansvloer🍸 Vroege vogels = gratis drankje Mis deze speciale editie niet!</p>
DESCRIPTION:<a href='/agenda/2026/4/25/we-love-70s-80s-90s-xxl-461203'>/agenda/2026/4/25/we-love-70s-80s-90s-xxl-461203</a> || <p>Speciale XXL Editie – We Love 70s 80s 90s! Zaterdag 25 april gaan we groots uitpakken bij Gelderlandfabriek:</p><p>10 jaar Gelderlandfabriek &amp; 10&nbsp;jaar We Love</p><p>Tijd voor een legendarische jubileumeditie! Start: 20:00 (uur eerder beginnen!)</p><p>Einde: 01:00</p><p>DJ’s: Rick Snel &amp; Peter Hak</p><p>Verwacht:• De allerbeste hits uit de 70s, 80s &amp; 90s• Grote schermen met iconische videoclips• Een spectaculaire verlichte dansvloer🍸 Vroege vogels = gratis drankje Mis deze speciale editie niet!</p>
LAST-MODIFIED:20260425T150309Z
LOCATION: Gelderlandfabriek | Stationsweg 7 Culemborg
SEQUENCE:0
STATUS:CONFIRMED
SUMMARY:We Love 70s 80s 90s XXL
TRANSP:OPAQUE
END:VEVENT
END:VCALENDAR
