BEGIN:VCALENDAR
PRODID:-//PUBBLE//agenda//NL
VERSION:2.0
METHOD:PUBLISH
BEGIN:VEVENT
DTSTART:20260424T170000Z
DTEND:20260424T180000Z
DTSTAMP:20260424T124746Z
UID:4aa1001d-9606-4998-ade0-cdbb5bd10780
CREATED:20260424T124746Z
NAME:Rondje Zachtheid culemborgsecourant.nl
X-WR-CALNAME:Rondje Zachtheid
X-ALT-DESC;FMTTYPE=text/html:<a href='/agenda/2026/4/24/rondje-zachtheid-461045'>/agenda/2026/4/24/rondje-zachtheid-461045</a> || <p>In 35 plaatsen wordt op de laatste vrijdag van de maand het Rondje Zachtheid gelopen, een gezamenlijke wandeling in het teken van vriendelijkheid en mildheid. Deelnemers wandelen in stilte of in gesprek, met aandacht voor zachtheid in het eigen leven en in de omgeving. Wie dat wil, kan tijdens het samenzijn een gedicht of korte tekst voordragen ter versterking van het thema.</p><p>In Culemborg start de wandeling op de Markt, bij de trap van het Oude Stadhuis. De aanvangstijd is 19.00 uur; deze is aangepast nu het ’s avonds langer licht blijft. Aanmelden is niet nodig.</p><p>Meer informatie: rondjezachtheid.nl</p>
DESCRIPTION:<a href='/agenda/2026/4/24/rondje-zachtheid-461045'>/agenda/2026/4/24/rondje-zachtheid-461045</a> || <p>In 35 plaatsen wordt op de laatste vrijdag van de maand het Rondje Zachtheid gelopen, een gezamenlijke wandeling in het teken van vriendelijkheid en mildheid. Deelnemers wandelen in stilte of in gesprek, met aandacht voor zachtheid in het eigen leven en in de omgeving. Wie dat wil, kan tijdens het samenzijn een gedicht of korte tekst voordragen ter versterking van het thema.</p><p>In Culemborg start de wandeling op de Markt, bij de trap van het Oude Stadhuis. De aanvangstijd is 19.00 uur; deze is aangepast nu het ’s avonds langer licht blijft. Aanmelden is niet nodig.</p><p>Meer informatie: rondjezachtheid.nl</p>
LAST-MODIFIED:20260424T124746Z
LOCATION: Binnenstad |   Culemborg
SEQUENCE:0
STATUS:CONFIRMED
SUMMARY:Rondje Zachtheid
TRANSP:OPAQUE
END:VEVENT
END:VCALENDAR
