BEGIN:VCALENDAR
PRODID:-//PUBBLE//agenda//NL
VERSION:2.0
METHOD:PUBLISH
BEGIN:VEVENT
DTSTART:20260426T090000Z
DTEND:20260426T110000Z
DTSTAMP:20260425T152548Z
UID:ab9ef663-1a26-41fc-aaa2-94971aa1f40a
CREATED:20260425T152548Z
NAME:Boekstollende Brunch met het Thrillercomplot culemborgsecourant.nl
X-WR-CALNAME:Boekstollende Brunch met het Thrillercomplot
X-ALT-DESC;FMTTYPE=text/html:<a href='/agenda/2026/4/26/boekstollende-brunch-met-het-thrillercomplot-460955'>/agenda/2026/4/26/boekstollende-brunch-met-het-thrillercomplot-460955</a> || <p>Tijdens een speciale boekenbrunch bij boekhandel Tomey in Culemborg presenteren vijf thrillerschrijvers hun werk in een setting die volledig in het teken staat van spanning. Terwijl bezoekers worden ontvangen met versgeperst (bloed)sinaasappelsap, warme broodjes en een tikkend gekookt eitje, nemen de auteurs het publiek mee in hun gezamenlijke universum van misdaad en mysterie.</p><p>Het Thrillercomplot bestaat uit een rechercheur, een jurist, een IT‑manager, een accountant en een illustrator. Samen vormen zij een schrijverscollectief met meerdere thrillers op naam. Het genootschap organiseert gezamenlijke evenementen, signeersessies en exclusieve verhalenprojecten.</p><p>Details over het programma en deelname zijn te vinden via: https://www.boekhandeltomey.nl/event/boekstollende-boekenbrunch-met-het-thrillercomplot-2/</p>
DESCRIPTION:<a href='/agenda/2026/4/26/boekstollende-brunch-met-het-thrillercomplot-460955'>/agenda/2026/4/26/boekstollende-brunch-met-het-thrillercomplot-460955</a> || <p>Tijdens een speciale boekenbrunch bij boekhandel Tomey in Culemborg presenteren vijf thrillerschrijvers hun werk in een setting die volledig in het teken staat van spanning. Terwijl bezoekers worden ontvangen met versgeperst (bloed)sinaasappelsap, warme broodjes en een tikkend gekookt eitje, nemen de auteurs het publiek mee in hun gezamenlijke universum van misdaad en mysterie.</p><p>Het Thrillercomplot bestaat uit een rechercheur, een jurist, een IT‑manager, een accountant en een illustrator. Samen vormen zij een schrijverscollectief met meerdere thrillers op naam. Het genootschap organiseert gezamenlijke evenementen, signeersessies en exclusieve verhalenprojecten.</p><p>Details over het programma en deelname zijn te vinden via: https://www.boekhandeltomey.nl/event/boekstollende-boekenbrunch-met-het-thrillercomplot-2/</p>
LAST-MODIFIED:20260425T152548Z
LOCATION: Boekhandel Tomey | Markt 8 Culemborg
SEQUENCE:0
STATUS:CONFIRMED
SUMMARY:Boekstollende Brunch met het Thrillercomplot
TRANSP:OPAQUE
END:VEVENT
END:VCALENDAR
