BEGIN:VCALENDAR
PRODID:-//PUBBLE//agenda//NL
VERSION:2.0
METHOD:PUBLISH
BEGIN:VEVENT
DTSTART:20260425T070000Z
DTEND:20260425T090000Z
DTSTAMP:20260424T122550Z
UID:39d5ef19-19a3-4daf-98b1-6ab9a432a111
CREATED:20260424T122550Z
NAME:Vogels in de buurt, excursie culemborgsecourant.nl
X-WR-CALNAME:Vogels in de buurt, excursie
X-ALT-DESC;FMTTYPE=text/html:<a href='/agenda/2026/4/25/vogels-in-de-buurt-excursie-460843'>/agenda/2026/4/25/vogels-in-de-buurt-excursie-460843</a> || <p>Deze maandelijkse excursie onder leiding van Gerrit Jan Klop is voor zowel leden als niet-leden en is ook geschikt voor beginnende vogelaars. Aanmelden vooraf is niet nodig en er zijn geen kosten aan verbonden. Heeft u een verrekijker? Neem die dan mee. Deelnemers stappen 25 april om 9:00 uur op de fiets vanaf het grote plein voor De Steenuil, Steenovenslaan 20, Culemborg</p>
DESCRIPTION:<a href='/agenda/2026/4/25/vogels-in-de-buurt-excursie-460843'>/agenda/2026/4/25/vogels-in-de-buurt-excursie-460843</a> || <p>Deze maandelijkse excursie onder leiding van Gerrit Jan Klop is voor zowel leden als niet-leden en is ook geschikt voor beginnende vogelaars. Aanmelden vooraf is niet nodig en er zijn geen kosten aan verbonden. Heeft u een verrekijker? Neem die dan mee. Deelnemers stappen 25 april om 9:00 uur op de fiets vanaf het grote plein voor De Steenuil, Steenovenslaan 20, Culemborg</p>
LAST-MODIFIED:20260424T122550Z
LOCATION: De Steenuil (gebouw van Stanislaus Scouting | Steenovenslaan 20 Culemborg
SEQUENCE:0
STATUS:CONFIRMED
SUMMARY:Vogels in de buurt, excursie
TRANSP:OPAQUE
END:VEVENT
END:VCALENDAR
