BEGIN:VCALENDAR
PRODID:-//PUBBLE//agenda//NL
VERSION:2.0
METHOD:PUBLISH
BEGIN:VEVENT
DTSTART:20260422T180000Z
DTEND:20260422T200000Z
DTSTAMP:20260422T085810Z
UID:250016bd-5527-4761-a44e-6aa86cbdc040
CREATED:20260422T085810Z
NAME:Workshop, presentatie en excursie over dagvlinders culemborgsecourant.nl
X-WR-CALNAME:Workshop, presentatie en excursie over dagvlinders
X-ALT-DESC;FMTTYPE=text/html:<a href='/agenda/2026/4/22/workshop-presentatie-en-excursie-over-dagvlinders-460841'>/agenda/2026/4/22/workshop-presentatie-en-excursie-over-dagvlinders-460841</a> || <p>Kars Veling van de Natuur- en Vogelwacht houdt een verdiepend beeld schetst van de dagvlinders in de omgeving van Culemborg. Veling gaat in op herkenningskenmerken, maar richt zich vooral op de manier waarop vlinders het landschap benutten en welke voorwaarden nodig zijn om soorten weer algemener te laten worden.</p><p>De opgedane kennis wordt kort daarna in de praktijk gebracht. De NVWC biedt een excursie aan op 26 april of, afhankelijk van de weersomstandigheden, op 2 mei. Tijdens deze veldbezoeken worden de inzichten uit de lezing toegepast in het gebied zelf.</p><p>Aanmelden en aanvullende informatie zijn te vinden via de website van de vereniging: NVWC.nl</p>
DESCRIPTION:<a href='/agenda/2026/4/22/workshop-presentatie-en-excursie-over-dagvlinders-460841'>/agenda/2026/4/22/workshop-presentatie-en-excursie-over-dagvlinders-460841</a> || <p>Kars Veling van de Natuur- en Vogelwacht houdt een verdiepend beeld schetst van de dagvlinders in de omgeving van Culemborg. Veling gaat in op herkenningskenmerken, maar richt zich vooral op de manier waarop vlinders het landschap benutten en welke voorwaarden nodig zijn om soorten weer algemener te laten worden.</p><p>De opgedane kennis wordt kort daarna in de praktijk gebracht. De NVWC biedt een excursie aan op 26 april of, afhankelijk van de weersomstandigheden, op 2 mei. Tijdens deze veldbezoeken worden de inzichten uit de lezing toegepast in het gebied zelf.</p><p>Aanmelden en aanvullende informatie zijn te vinden via de website van de vereniging: NVWC.nl</p>
LAST-MODIFIED:20260422T085810Z
LOCATION: De Steenuil (gebouw van Stanislaus Scouting | Steenovenslaan 20 Culemborg
SEQUENCE:0
STATUS:CONFIRMED
SUMMARY:Workshop, presentatie en excursie over dagvlinders
TRANSP:OPAQUE
END:VEVENT
END:VCALENDAR
