BEGIN:VCALENDAR
PRODID:-//PUBBLE//agenda//NL
VERSION:2.0
METHOD:PUBLISH
BEGIN:VEVENT
DTSTART:20260421T080000Z
DTEND:20260421T100000Z
DTSTAMP:20260422T165916Z
UID:b9e5c421-1cca-4ea8-bf3b-c534b186c288
CREATED:20260422T165916Z
NAME:Belastinghulp Bibliotheek culemborgsecourant.nl
X-WR-CALNAME:Belastinghulp Bibliotheek
X-ALT-DESC;FMTTYPE=text/html:<a href='/agenda/2026/4/21/belastinghulp-bibliotheek-454939'>/agenda/2026/4/21/belastinghulp-bibliotheek-454939</a> || <p>Belastingaangifte kan soms lastig zijn. Daarom biedt Bibliotheek Rivierenland, in samenwerking met FNV en KBO Gelderland op twee verschillende locaties hulp bij belastingaangifte voor leden en niet-leden. Het gratis spreekuur is bedoeld voor iedereen (vanaf 18 jaar) die vragen heeft over hun persoonlijke belastingzaken (dus niet voor zakelijke vragen). Een afspraak is gemakkelijk gemaakt via de website www.bibliotheekrivierenland.nl/belastinghulp. Of neem contact op met de klantenservice via telefoonnummer 0344 – 639940 &nbsp;</p><p>Let op: Neem je DigiD (gebruikersnaam en wachtwoord) mee naar het spreekuur. Dit is nodig om je belastingzaken in te zien.</p>
DESCRIPTION:<a href='/agenda/2026/4/21/belastinghulp-bibliotheek-454939'>/agenda/2026/4/21/belastinghulp-bibliotheek-454939</a> || <p>Belastingaangifte kan soms lastig zijn. Daarom biedt Bibliotheek Rivierenland, in samenwerking met FNV en KBO Gelderland op twee verschillende locaties hulp bij belastingaangifte voor leden en niet-leden. Het gratis spreekuur is bedoeld voor iedereen (vanaf 18 jaar) die vragen heeft over hun persoonlijke belastingzaken (dus niet voor zakelijke vragen). Een afspraak is gemakkelijk gemaakt via de website www.bibliotheekrivierenland.nl/belastinghulp. Of neem contact op met de klantenservice via telefoonnummer 0344 – 639940 &nbsp;</p><p>Let op: Neem je DigiD (gebruikersnaam en wachtwoord) mee naar het spreekuur. Dit is nodig om je belastingzaken in te zien.</p>
LAST-MODIFIED:20260422T165916Z
LOCATION: Bibliotheek | Herenstraat 29 Culemborg
SEQUENCE:0
STATUS:CONFIRMED
SUMMARY:Belastinghulp Bibliotheek
TRANSP:OPAQUE
END:VEVENT
END:VCALENDAR
