BEGIN:VCALENDAR
PRODID:-//PUBBLE//agenda//NL
VERSION:2.0
METHOD:PUBLISH
BEGIN:VEVENT
DTSTART:20250613T181500Z
DTEND:20250613T191500Z
DTSTAMP:20260425T235254Z
UID:2b14388c-591d-4e19-9ccd-6ee62db5b66b
CREATED:20260425T235254Z
NAME:Amal 2 | Theater over ouderschap culemborgsecourant.nl
X-WR-CALNAME:Amal 2 | Theater over ouderschap
X-ALT-DESC;FMTTYPE=text/html:<a href='/agenda/2025/6/13/amal-2-theater-over-ouderschap-427862'>/agenda/2025/6/13/amal-2-theater-over-ouderschap-427862</a> || <p>Een impactvolle theatervoorstelling over het thema ouderschap. Hoe voeden we onze kinderen anders op dan we zelf zijn opgevoed?<br />Theatervoorstelling over het doorbreken van je patronen.</p>
DESCRIPTION:<a href='/agenda/2025/6/13/amal-2-theater-over-ouderschap-427862'>/agenda/2025/6/13/amal-2-theater-over-ouderschap-427862</a> || <p>Een impactvolle theatervoorstelling over het thema ouderschap. Hoe voeden we onze kinderen anders op dan we zelf zijn opgevoed?<br />Theatervoorstelling over het doorbreken van je patronen.</p>
LAST-MODIFIED:20260425T235254Z
LOCATION: Theater De Fransche School | Havendijk 1 Culemborg
SEQUENCE:0
STATUS:CONFIRMED
SUMMARY:Amal 2 | Theater over ouderschap
TRANSP:OPAQUE
END:VEVENT
END:VCALENDAR
