BEGIN:VCALENDAR
PRODID:-//PUBBLE//agenda//NL
VERSION:2.0
METHOD:PUBLISH
BEGIN:VEVENT
DTSTART:20250529T043000Z
DTEND:20250529T070000Z
DTSTAMP:20260424T171649Z
UID:d47d272d-110f-4615-aaff-a34e7b349db4
CREATED:20260424T171649Z
NAME:Dauwtrappen culemborgsecourant.nl
X-WR-CALNAME:Dauwtrappen
X-ALT-DESC;FMTTYPE=text/html:<a href='/agenda/2025/5/29/dauwtrappen-418761'>/agenda/2025/5/29/dauwtrappen-418761</a> || <p>Op Hemelvaartsdag lekker vroeg op om met een van onze gidsen door de uiterwaarden te wandelen, het is een traditie op Werk aan het Spoel. Na een wandeltocht van 1,5 uur staat er een heerlijk ontbijt bij ‘Caatje’.</p>
DESCRIPTION:<a href='/agenda/2025/5/29/dauwtrappen-418761'>/agenda/2025/5/29/dauwtrappen-418761</a> || <p>Op Hemelvaartsdag lekker vroeg op om met een van onze gidsen door de uiterwaarden te wandelen, het is een traditie op Werk aan het Spoel. Na een wandeltocht van 1,5 uur staat er een heerlijk ontbijt bij ‘Caatje’.</p>
LAST-MODIFIED:20260424T171649Z
LOCATION: Werk aan het Spoel | Goilberdingerdijk 40 Culemborg
SEQUENCE:0
STATUS:CONFIRMED
SUMMARY:Dauwtrappen
TRANSP:OPAQUE
END:VEVENT
END:VCALENDAR
